BEGIN:VCALENDAR
VERSION:2.0
PRODID:-//FVACFSS - ECPv6.15.20//NONSGML v1.0//EN
CALSCALE:GREGORIAN
METHOD:PUBLISH
X-ORIGINAL-URL:https://www.fvacfss.ca
X-WR-CALDESC:Events for FVACFSS
REFRESH-INTERVAL;VALUE=DURATION:PT1H
X-Robots-Tag:noindex
X-PUBLISHED-TTL:PT1H
BEGIN:VTIMEZONE
TZID:America/Vancouver
BEGIN:DAYLIGHT
TZOFFSETFROM:-0800
TZOFFSETTO:-0700
TZNAME:PDT
DTSTART:20250309T100000
END:DAYLIGHT
BEGIN:STANDARD
TZOFFSETFROM:-0700
TZOFFSETTO:-0800
TZNAME:PST
DTSTART:20251102T090000
END:STANDARD
BEGIN:DAYLIGHT
TZOFFSETFROM:-0800
TZOFFSETTO:-0700
TZNAME:PDT
DTSTART:20260308T100000
END:DAYLIGHT
BEGIN:STANDARD
TZOFFSETFROM:-0700
TZOFFSETTO:-0800
TZNAME:PST
DTSTART:20261101T090000
END:STANDARD
BEGIN:DAYLIGHT
TZOFFSETFROM:-0800
TZOFFSETTO:-0700
TZNAME:PDT
DTSTART:20270314T100000
END:DAYLIGHT
BEGIN:STANDARD
TZOFFSETFROM:-0700
TZOFFSETTO:-0800
TZNAME:PST
DTSTART:20271107T090000
END:STANDARD
END:VTIMEZONE
BEGIN:VEVENT
DTSTART;TZID=America/Vancouver:20260506T180000
DTEND;TZID=America/Vancouver:20260506T200000
DTSTAMP:20260421T104137
CREATED:20260331T181723Z
LAST-MODIFIED:20260331T181723Z
UID:10003236-1778090400-1778097600@www.fvacfss.ca
SUMMARY:Moccasin Workshop
DESCRIPTION:Program Registration form fillable
URL:https://www.fvacfss.ca/event/moccasin-workshop/2026-05-06/
CATEGORIES:Cultural Connections,Events,Youth Visions & Voices
ATTACH;FMTTYPE=image/png:https://www.fvacfss.ca/wp-content/uploads/2026/03/Moccasin-Workshop-April-May-Ages-16.png
END:VEVENT
BEGIN:VEVENT
DTSTART;TZID=America/Vancouver:20260513T180000
DTEND;TZID=America/Vancouver:20260513T200000
DTSTAMP:20260421T104137
CREATED:20260331T181723Z
LAST-MODIFIED:20260331T181723Z
UID:10003237-1778695200-1778702400@www.fvacfss.ca
SUMMARY:Moccasin Workshop
DESCRIPTION:Program Registration form fillable
URL:https://www.fvacfss.ca/event/moccasin-workshop/2026-05-13/
CATEGORIES:Cultural Connections,Events,Youth Visions & Voices
ATTACH;FMTTYPE=image/png:https://www.fvacfss.ca/wp-content/uploads/2026/03/Moccasin-Workshop-April-May-Ages-16.png
END:VEVENT
BEGIN:VEVENT
DTSTART;TZID=America/Vancouver:20260520T180000
DTEND;TZID=America/Vancouver:20260520T200000
DTSTAMP:20260421T104137
CREATED:20260331T181723Z
LAST-MODIFIED:20260331T181723Z
UID:10003238-1779300000-1779307200@www.fvacfss.ca
SUMMARY:Moccasin Workshop
DESCRIPTION:Program Registration form fillable
URL:https://www.fvacfss.ca/event/moccasin-workshop/2026-05-20/
CATEGORIES:Cultural Connections,Events,Youth Visions & Voices
ATTACH;FMTTYPE=image/png:https://www.fvacfss.ca/wp-content/uploads/2026/03/Moccasin-Workshop-April-May-Ages-16.png
END:VEVENT
BEGIN:VEVENT
DTSTART;TZID=America/Vancouver:20260521T180000
DTEND;TZID=America/Vancouver:20260521T200000
DTSTAMP:20260421T104137
CREATED:20260331T174845Z
LAST-MODIFIED:20260331T174845Z
UID:10003232-1779386400-1779393600@www.fvacfss.ca
SUMMARY:Financial Literacy
DESCRIPTION:Filing your tax returnProgram Registration form fillable
URL:https://www.fvacfss.ca/event/financial-literacy-2/
CATEGORIES:Events,Youth Visions & Voices
ATTACH;FMTTYPE=image/png:https://www.fvacfss.ca/wp-content/uploads/2026/03/Filing-your-Tax-Return-Youth-Financial-Literacy-May-21-.png
END:VEVENT
BEGIN:VEVENT
DTSTART;TZID=America/Vancouver:20260527T180000
DTEND;TZID=America/Vancouver:20260527T200000
DTSTAMP:20260421T104137
CREATED:20260331T181723Z
LAST-MODIFIED:20260331T181723Z
UID:10003239-1779904800-1779912000@www.fvacfss.ca
SUMMARY:Moccasin Workshop
DESCRIPTION:Program Registration form fillable
URL:https://www.fvacfss.ca/event/moccasin-workshop/2026-05-27/
CATEGORIES:Cultural Connections,Events,Youth Visions & Voices
ATTACH;FMTTYPE=image/png:https://www.fvacfss.ca/wp-content/uploads/2026/03/Moccasin-Workshop-April-May-Ages-16.png
END:VEVENT
END:VCALENDAR