BEGIN:VCALENDAR
VERSION:2.0
PRODID:-//FVACFSS - ECPv6.15.20//NONSGML v1.0//EN
CALSCALE:GREGORIAN
METHOD:PUBLISH
X-WR-CALNAME:FVACFSS
X-ORIGINAL-URL:https://www.fvacfss.ca
X-WR-CALDESC:Events for FVACFSS
REFRESH-INTERVAL;VALUE=DURATION:PT1H
X-Robots-Tag:noindex
X-PUBLISHED-TTL:PT1H
BEGIN:VTIMEZONE
TZID:America/Vancouver
BEGIN:DAYLIGHT
TZOFFSETFROM:-0800
TZOFFSETTO:-0700
TZNAME:PDT
DTSTART:20230312T100000
END:DAYLIGHT
BEGIN:STANDARD
TZOFFSETFROM:-0700
TZOFFSETTO:-0800
TZNAME:PST
DTSTART:20231105T090000
END:STANDARD
BEGIN:DAYLIGHT
TZOFFSETFROM:-0800
TZOFFSETTO:-0700
TZNAME:PDT
DTSTART:20240310T100000
END:DAYLIGHT
BEGIN:STANDARD
TZOFFSETFROM:-0700
TZOFFSETTO:-0800
TZNAME:PST
DTSTART:20241103T090000
END:STANDARD
BEGIN:DAYLIGHT
TZOFFSETFROM:-0800
TZOFFSETTO:-0700
TZNAME:PDT
DTSTART:20250309T100000
END:DAYLIGHT
BEGIN:STANDARD
TZOFFSETFROM:-0700
TZOFFSETTO:-0800
TZNAME:PST
DTSTART:20251102T090000
END:STANDARD
END:VTIMEZONE
BEGIN:VEVENT
DTSTART;TZID=America/Vancouver:20240321T170000
DTEND;TZID=America/Vancouver:20240321T190000
DTSTAMP:20260423T102646
CREATED:20240314T183513Z
LAST-MODIFIED:20240314T183513Z
UID:10002361-1711040400-1711047600@www.fvacfss.ca
SUMMARY:East Region Youth Drop-In
DESCRIPTION:
URL:https://www.fvacfss.ca/event/east-region-youth-drop-in-3/
CATEGORIES:Events
ATTACH;FMTTYPE=image/png:https://www.fvacfss.ca/wp-content/uploads/2024/03/East-Region-Family-Drop-In-March-21.png
END:VEVENT
BEGIN:VEVENT
DTSTART;TZID=America/Vancouver:20240307T170000
DTEND;TZID=America/Vancouver:20240307T190000
DTSTAMP:20260423T102646
CREATED:20240228T233419Z
LAST-MODIFIED:20240228T233419Z
UID:10002357-1709830800-1709838000@www.fvacfss.ca
SUMMARY:East Region Family Drop-in
DESCRIPTION:
URL:https://www.fvacfss.ca/event/east-region-family-drop-in-4/
CATEGORIES:Events,Family Events
ATTACH;FMTTYPE=image/png:https://www.fvacfss.ca/wp-content/uploads/2024/02/East-Region-Family-Drop-In-March-7.png
END:VEVENT
BEGIN:VEVENT
DTSTART;TZID=America/Vancouver:20240306T170000
DTEND;TZID=America/Vancouver:20240306T190000
DTSTAMP:20260423T102646
CREATED:20240301T000421Z
LAST-MODIFIED:20240301T000421Z
UID:10002360-1709744400-1709751600@www.fvacfss.ca
SUMMARY:Central Region Parent Drop-In
DESCRIPTION:
URL:https://www.fvacfss.ca/event/central-region-parent-drop-in/
CATEGORIES:Events,Family Events
ATTACH;FMTTYPE=image/png:https://www.fvacfss.ca/wp-content/uploads/2024/02/Central-Region-March-6.png
END:VEVENT
BEGIN:VEVENT
DTSTART;TZID=America/Vancouver:20240222T170000
DTEND;TZID=America/Vancouver:20240222T190000
DTSTAMP:20260423T102646
CREATED:20240214T212804Z
LAST-MODIFIED:20240214T212804Z
UID:10002356-1708621200-1708628400@www.fvacfss.ca
SUMMARY:East Region Youth Drop-In
DESCRIPTION:
URL:https://www.fvacfss.ca/event/east-region-youth-drop-in-2/
CATEGORIES:Events
ATTACH;FMTTYPE=image/png:https://www.fvacfss.ca/wp-content/uploads/2024/02/East-Region-Youth-Drop-In-Feb.-22.png
END:VEVENT
BEGIN:VEVENT
DTSTART;TZID=America/Vancouver:20240208T170000
DTEND;TZID=America/Vancouver:20240208T190000
DTSTAMP:20260423T102646
CREATED:20240126T210803Z
LAST-MODIFIED:20240126T210803Z
UID:10002354-1707411600-1707418800@www.fvacfss.ca
SUMMARY:East Region Family Drop-in
DESCRIPTION:
URL:https://www.fvacfss.ca/event/east-region-family-drop-in-3/
CATEGORIES:Events,Family Events
ATTACH;FMTTYPE=image/png:https://www.fvacfss.ca/wp-content/uploads/2024/01/East-Region-Family-Drop-In-Feb.-8.png
END:VEVENT
BEGIN:VEVENT
DTSTART;TZID=America/Vancouver:20240207T170000
DTEND;TZID=America/Vancouver:20240207T190000
DTSTAMP:20260423T102646
CREATED:20240131T175614Z
LAST-MODIFIED:20240131T175614Z
UID:10002355-1707325200-1707332400@www.fvacfss.ca
SUMMARY:Central Region Family Drop In
DESCRIPTION:
URL:https://www.fvacfss.ca/event/central-region-family-drop-in-3/
CATEGORIES:Events,Family Events
ATTACH;FMTTYPE=image/png:https://www.fvacfss.ca/wp-content/uploads/2024/01/Central-Region-Feb-7.png
END:VEVENT
BEGIN:VEVENT
DTSTART;TZID=America/Vancouver:20240125T170000
DTEND;TZID=America/Vancouver:20240125T190000
DTSTAMP:20260423T102646
CREATED:20240109T183618Z
LAST-MODIFIED:20240109T183618Z
UID:10002352-1706202000-1706209200@www.fvacfss.ca
SUMMARY:East Region Youth Drop In
DESCRIPTION:
URL:https://www.fvacfss.ca/event/east-region-youth-drop-in/
CATEGORIES:Events
ATTACH;FMTTYPE=image/png:https://www.fvacfss.ca/wp-content/uploads/2024/01/East-Region-Youth-Drop-In-Jan-25.png
END:VEVENT
BEGIN:VEVENT
DTSTART;TZID=America/Vancouver:20240124T170000
DTEND;TZID=America/Vancouver:20240124T190000
DTSTAMP:20260423T102646
CREATED:20240109T183824Z
LAST-MODIFIED:20240109T183824Z
UID:10002353-1706115600-1706122800@www.fvacfss.ca
SUMMARY:Central Region Youth Drop In
DESCRIPTION:
URL:https://www.fvacfss.ca/event/central-region-youth-drop-in-5/
CATEGORIES:Events
ATTACH;FMTTYPE=image/png:https://www.fvacfss.ca/wp-content/uploads/2024/01/Central-Region-Jan-24.png
END:VEVENT
END:VCALENDAR